BEGIN:VCALENDAR
VERSION:2.0
PRODID:-//Dany Katabana - ECPv6.15.17//NONSGML v1.0//EN
CALSCALE:GREGORIAN
METHOD:PUBLISH
X-WR-CALNAME:Dany Katabana
X-ORIGINAL-URL:https://demontana.co.uk
X-WR-CALDESC:Events for Dany Katabana
REFRESH-INTERVAL;VALUE=DURATION:PT1H
X-Robots-Tag:noindex
X-PUBLISHED-TTL:PT1H
BEGIN:VTIMEZONE
TZID:UTC
BEGIN:STANDARD
TZOFFSETFROM:+0000
TZOFFSETTO:+0000
TZNAME:UTC
DTSTART:20250101T000000
END:STANDARD
END:VTIMEZONE
BEGIN:VEVENT
DTSTART;TZID=UTC:20260215T100000
DTEND;TZID=UTC:20260215T170000
DTSTAMP:20260425T032503
CREATED:20250901T121253Z
LAST-MODIFIED:20250901T122911Z
UID:274-1771149600-1771174800@demontana.co.uk
SUMMARY:Summer night party
DESCRIPTION:
URL:https://demontana.co.uk/event/summer-night-party/
ATTACH;FMTTYPE=image/png:https://demontana.co.uk/wp-content/uploads/2025/09/Summer-night-party.png
END:VEVENT
BEGIN:VEVENT
DTSTART;TZID=UTC:20260115T100000
DTEND;TZID=UTC:20260115T170000
DTSTAMP:20260425T032503
CREATED:20250901T114902Z
LAST-MODIFIED:20250901T120603Z
UID:216-1768471200-1768496400@demontana.co.uk
SUMMARY:Music Box 2026
DESCRIPTION:
URL:https://demontana.co.uk/event/music-box-2026/
ATTACH;FMTTYPE=image/png:https://demontana.co.uk/wp-content/uploads/2025/09/Music-Box-2026.png
END:VEVENT
END:VCALENDAR